BEGIN:VCALENDAR
VERSION:2.0
PRODID:-//Syndicat d&#039;Initiative de Dixmont - ECPv6.15.11//NONSGML v1.0//EN
CALSCALE:GREGORIAN
METHOD:PUBLISH
X-ORIGINAL-URL:https://si-dixmont.fr
X-WR-CALDESC:Évènements pour Syndicat d&#039;Initiative de Dixmont
REFRESH-INTERVAL;VALUE=DURATION:PT1H
X-Robots-Tag:noindex
X-PUBLISHED-TTL:PT1H
BEGIN:VTIMEZONE
TZID:Europe/Paris
BEGIN:DAYLIGHT
TZOFFSETFROM:+0100
TZOFFSETTO:+0200
TZNAME:CEST
DTSTART:20230326T010000
END:DAYLIGHT
BEGIN:STANDARD
TZOFFSETFROM:+0200
TZOFFSETTO:+0100
TZNAME:CET
DTSTART:20231029T010000
END:STANDARD
BEGIN:DAYLIGHT
TZOFFSETFROM:+0100
TZOFFSETTO:+0200
TZNAME:CEST
DTSTART:20240331T010000
END:DAYLIGHT
BEGIN:STANDARD
TZOFFSETFROM:+0200
TZOFFSETTO:+0100
TZNAME:CET
DTSTART:20241027T010000
END:STANDARD
BEGIN:DAYLIGHT
TZOFFSETFROM:+0100
TZOFFSETTO:+0200
TZNAME:CEST
DTSTART:20250330T010000
END:DAYLIGHT
BEGIN:STANDARD
TZOFFSETFROM:+0200
TZOFFSETTO:+0100
TZNAME:CET
DTSTART:20251026T010000
END:STANDARD
END:VTIMEZONE
BEGIN:VEVENT
DTSTART;TZID=Europe/Paris:20240922T120000
DTEND;TZID=Europe/Paris:20240922T170000
DTSTAMP:20260425T225448
CREATED:20240902T150032Z
LAST-MODIFIED:20240902T150032Z
UID:12016-1727006400-1727024400@si-dixmont.fr
SUMMARY:Prochaines manifestations
DESCRIPTION:Le Syndicat d’Initiative vous invite à ses trois prochaines manifestations :ATTENTION : la journée prévue le 15 septembre (La Belle Epoque dans l’Yonne) est reportée au  samedi 26 octobre.  \n– Dimanche 22 septembre\, de 12 h 30 à 13 h\, au hameau de Valprofonde\, dans le cadre de la fête de la Vigne et du Vin organisée par l’Association Sauvegarde et Valorisation de l’Eglise de Valprofonde\, à l’issue de la randonnée du matin\, le SID animera une séquence A la découverte des ratafias locaux…\, avec la participation de Pascal Legent\, Jean-Michel Wasiw et Georges Ribeill\, ratafiologues. N’hésitez pas à apporter votre ratafia maison ! Contact sur la journée : assos.valpro@gmail.com \n– Dimanche 29 septembre\, en partenariat avec l’APPO\, au Prieuré de l’Enfourchure\, La cuisine au Moyen-Age\, dans (et hors) des monastères… En matinée\, exposés sur les plantes potagères\, aromatiques\, tinctoriales et médicinales au Moyen-Age\, sur les plats coutumiers… \nUn repas spécial sera préparé avec du gibier de la forêt d’Othe rôti au tournebroche… Ouverture et accueil à partir de 9 h 45. Inscription obligatoire à la journée incluant le repas . Tarifs* : adhérent SID ou APPO : 20 € ; non adhérent\, 24 € (2 € seront reversés à l’APPO\, association gérant le site de l’Enfourchure). En cas de mauvais temps\, la journée se déroulera à l’abri dans les salles du Prieuré. Précisions à venir. \n– Samedi 26 octobre\, à la salle des fêtes\, la journée sera consacrée à La Belle Epoque dans l’Yonne\, à travers les faits divers\, en partenariat avec le Club cartophile de l’Yonne et avec la participation de Jean-Jacques Percheminier\, auteur de 1900-1915. 15 ans de faits divers dans l’Yonne\, de Jean-Claude Czmara\, auteur de Villebougis\, Grande et petites histoires d’un village bourguignon\, Claude Garino\, Pierre Glaizal et Georges Ribeill. \n– 9 h 45\, Accueil à la salle des fêtes. \n– 10 h\, Exposés\, projections\, lectures. \n– 12 h 30\, Repas (Réservation obligatoire*. Tarifs : adhérents : 20 € ; non-adhérents : 24 € ; gratuité pour les moins de 10 ans). \n– 15 h 30\, « Faits divers\, vie quotidienne\, petits métiers\, à travers la carte postale »\, par Claude Garino. \n– 17 h\, Cidre de l’amitié. \n*Renseignements et inscription (obligatoire) aux repas : 03 86 96 05 37 (répondeur)
URL:https://si-dixmont.fr/evenement/prochaines-manifestations-2/
END:VEVENT
END:VCALENDAR