BEGIN:VCALENDAR
VERSION:2.0
PRODID:-//Syndicat d&#039;Initiative de Dixmont - ECPv6.15.11//NONSGML v1.0//EN
CALSCALE:GREGORIAN
METHOD:PUBLISH
X-WR-CALNAME:Syndicat d&#039;Initiative de Dixmont
X-ORIGINAL-URL:https://si-dixmont.fr
X-WR-CALDESC:Évènements pour Syndicat d&#039;Initiative de Dixmont
REFRESH-INTERVAL;VALUE=DURATION:PT1H
X-Robots-Tag:noindex
X-PUBLISHED-TTL:PT1H
BEGIN:VTIMEZONE
TZID:Europe/Paris
BEGIN:DAYLIGHT
TZOFFSETFROM:+0100
TZOFFSETTO:+0200
TZNAME:CEST
DTSTART:20240331T010000
END:DAYLIGHT
BEGIN:STANDARD
TZOFFSETFROM:+0200
TZOFFSETTO:+0100
TZNAME:CET
DTSTART:20241027T010000
END:STANDARD
BEGIN:DAYLIGHT
TZOFFSETFROM:+0100
TZOFFSETTO:+0200
TZNAME:CEST
DTSTART:20250330T010000
END:DAYLIGHT
BEGIN:STANDARD
TZOFFSETFROM:+0200
TZOFFSETTO:+0100
TZNAME:CET
DTSTART:20251026T010000
END:STANDARD
BEGIN:DAYLIGHT
TZOFFSETFROM:+0100
TZOFFSETTO:+0200
TZNAME:CEST
DTSTART:20260329T010000
END:DAYLIGHT
BEGIN:STANDARD
TZOFFSETFROM:+0200
TZOFFSETTO:+0100
TZNAME:CET
DTSTART:20261025T010000
END:STANDARD
END:VTIMEZONE
BEGIN:VEVENT
DTSTART;TZID=Europe/Paris:20250126T100000
DTEND;TZID=Europe/Paris:20250126T170000
DTSTAMP:20260426T054843
CREATED:20241114T090422Z
LAST-MODIFIED:20250108T090044Z
UID:12272-1737885600-1737910800@si-dixmont.fr
SUMMARY:Assemblée générale le 26 janvier 2025
DESCRIPTION:
URL:https://si-dixmont.fr/evenement/assemblee-generale-le-26-janvier-2025/
LOCATION:Salle des fêtes de Dixmont\, Rue Saint Gervais\, Dixmont\, 89500\, France
ORGANIZER;CN="si-Dixmont":MAILTO:ribeillgeorges@orange.fr
END:VEVENT
END:VCALENDAR