BEGIN:VCALENDAR
VERSION:2.0
PRODID:-//Syndicat d&#039;Initiative de Dixmont - ECPv6.15.11//NONSGML v1.0//EN
CALSCALE:GREGORIAN
METHOD:PUBLISH
X-WR-CALNAME:Syndicat d&#039;Initiative de Dixmont
X-ORIGINAL-URL:https://si-dixmont.fr
X-WR-CALDESC:Évènements pour Syndicat d&#039;Initiative de Dixmont
REFRESH-INTERVAL;VALUE=DURATION:PT1H
X-Robots-Tag:noindex
X-PUBLISHED-TTL:PT1H
BEGIN:VTIMEZONE
TZID:Europe/Paris
BEGIN:DAYLIGHT
TZOFFSETFROM:+0100
TZOFFSETTO:+0200
TZNAME:CEST
DTSTART:20230326T010000
END:DAYLIGHT
BEGIN:STANDARD
TZOFFSETFROM:+0200
TZOFFSETTO:+0100
TZNAME:CET
DTSTART:20231029T010000
END:STANDARD
BEGIN:DAYLIGHT
TZOFFSETFROM:+0100
TZOFFSETTO:+0200
TZNAME:CEST
DTSTART:20240331T010000
END:DAYLIGHT
BEGIN:STANDARD
TZOFFSETFROM:+0200
TZOFFSETTO:+0100
TZNAME:CET
DTSTART:20241027T010000
END:STANDARD
BEGIN:DAYLIGHT
TZOFFSETFROM:+0100
TZOFFSETTO:+0200
TZNAME:CEST
DTSTART:20250330T010000
END:DAYLIGHT
BEGIN:STANDARD
TZOFFSETFROM:+0200
TZOFFSETTO:+0100
TZNAME:CET
DTSTART:20251026T010000
END:STANDARD
END:VTIMEZONE
BEGIN:VEVENT
DTSTART;TZID=Europe/Paris:20240128T094500
DTEND;TZID=Europe/Paris:20240128T170000
DTSTAMP:20260425T180153
CREATED:20240121T091413Z
LAST-MODIFIED:20240121T091413Z
UID:10682-1706435100-1706461200@si-dixmont.fr
SUMMARY:Jovinien\, Pays d'Othe et Sénonais en 1830-1848
DESCRIPTION:Dimanche 28 janvier 2024\,  \n– 9 h 45\, Accueil à la salle des fêtes. \n– 10 h\, Exposés et débats animés par Georges Ribeill\, avec la participation de Christophe Voilliot qui évoquera la figure oubliée de Cormenin\, un militant icaunais du suffrage universel. \n– 11 h 30\, Assemblée générale du SID. Une rétrospective des activités de l’année 2023 sera présentée sous la forme d’un diaporama. \n– 12 h 30\, Repas avec choucroute (Réservation obligatoire*). Tarifs : adhérents : 20 € ; non-adhérents : 24 € ; gratuité pour les moins de 10 ans. \n– 15 h 30\, Reprise des discussions. \nPierre Glaizal donnera des nouvelles des tirailleurs des Bordes (1918) \nEn hommage à Saint-Vincent\, il sera rappelé les vertus trop ignorées du vin rouge. \n– 17 h 30\, Cidre de l’amitié. \nRemise aux adhérents 2023  :   Initiatives dixmontoises\, n° 105-106 \n*Renseignements et inscriptions au repas :  03 86 96 05 37 (répondeur) \nMerci de vous inscrire au plus tôt pour faciliter nos commandes !
URL:https://si-dixmont.fr/evenement/jovinien-pays-dothe-et-senonais-en-1830-1848/
LOCATION:Salle des fêtes de Dixmont\, Rue Saint Gervais\, Dixmont\, 89500\, France
CATEGORIES:Assemblée générale,Conférence,Repas
END:VEVENT
END:VCALENDAR