BEGIN:VCALENDAR
VERSION:2.0
PRODID:-//Syndicat d&#039;Initiative de Dixmont - ECPv6.15.11//NONSGML v1.0//EN
CALSCALE:GREGORIAN
METHOD:PUBLISH
X-ORIGINAL-URL:https://si-dixmont.fr
X-WR-CALDESC:Évènements pour Syndicat d&#039;Initiative de Dixmont
REFRESH-INTERVAL;VALUE=DURATION:PT1H
X-Robots-Tag:noindex
X-PUBLISHED-TTL:PT1H
BEGIN:VTIMEZONE
TZID:Europe/Paris
BEGIN:DAYLIGHT
TZOFFSETFROM:+0100
TZOFFSETTO:+0200
TZNAME:CEST
DTSTART:20220327T010000
END:DAYLIGHT
BEGIN:STANDARD
TZOFFSETFROM:+0200
TZOFFSETTO:+0100
TZNAME:CET
DTSTART:20221030T010000
END:STANDARD
BEGIN:DAYLIGHT
TZOFFSETFROM:+0100
TZOFFSETTO:+0200
TZNAME:CEST
DTSTART:20230326T010000
END:DAYLIGHT
BEGIN:STANDARD
TZOFFSETFROM:+0200
TZOFFSETTO:+0100
TZNAME:CET
DTSTART:20231029T010000
END:STANDARD
BEGIN:DAYLIGHT
TZOFFSETFROM:+0100
TZOFFSETTO:+0200
TZNAME:CEST
DTSTART:20240331T010000
END:DAYLIGHT
BEGIN:STANDARD
TZOFFSETFROM:+0200
TZOFFSETTO:+0100
TZNAME:CET
DTSTART:20241027T010000
END:STANDARD
END:VTIMEZONE
BEGIN:VEVENT
DTSTART;TZID=Europe/Paris:20230122T093000
DTEND;TZID=Europe/Paris:20230122T170000
DTSTAMP:20260425T150136
CREATED:20230104T070455Z
LAST-MODIFIED:20230104T070455Z
UID:8512-1674379800-1674406800@si-dixmont.fr
SUMMARY:A la rencontre des Icaunais impliqués  dans les guerres de la fin du Premier Empire
DESCRIPTION:Dimanche 22 janvier 2023\, le SID vous propose un voyage : \nA la rencontre des Icaunais impliqués dans les guerres de la fin du Premier Empire  \n\n9 h 45\, Accueil du public à la salle des fêtes\n10 h\, Pierre Glaizal évoquera les grognards du Pays d’Othe et du Sénonais engagés dans la campagne de Russie\, perdus durant la retraite de leurs armées.\n10 h 45\, Xavier François-Leclanché traitera ensuite des occupations par les Prussiens du Pays d’Othe et du Sénonais en 1814 et 1815.\n\nLes derniers ouvrages de Pierre Glaizal\, Les soldats de l’Yonne dans la campagne de Russie de Napoléon 1er\, et de Xavier François-Leclanché\, L’Yonne sous les bottes autrichiennes et bavaroises (1814-1815)\, seront disponibles.  \n\n11 h 30\, assemblée générale du SID. Une rétrospective des activités de l’année 2022 sera présentée sous la forme d’un diaporama.\n12 h 30\, Repas facultatif* (adhérents SID : 18 € ; non-adhérents : 22 €). A l’occasion de la Saint-Vincent\, un bœuf bourguignon sera proposé.\n15 h\, Discussion sur les projets et futures manifestations du SID.\n17 h\, Galette des rois avec cidre frais. \n\nRemise aux adhérents 2022 des Cahiers du SID\, \nInitiatives dixmontoises\, n° 101-102  \n*Renseignements et inscriptions (obligatoires) au repas : 03 86 96 05 37 (répondeur)
URL:https://si-dixmont.fr/evenement/a-la-rencontre-des-icaunais-impliques-dans-les-guerres-de-la-fin-du-premier-empire/
LOCATION:Salle des fêtes de Dixmont\, Rue Saint Gervais\, Dixmont\, 89500\, France
CATEGORIES:Conférence,Repas
END:VEVENT
END:VCALENDAR