BEGIN:VCALENDAR
VERSION:2.0
PRODID:-//Syndicat d&#039;Initiative de Dixmont - ECPv6.15.11//NONSGML v1.0//EN
CALSCALE:GREGORIAN
METHOD:PUBLISH
X-ORIGINAL-URL:https://si-dixmont.fr
X-WR-CALDESC:Évènements pour Syndicat d&#039;Initiative de Dixmont
REFRESH-INTERVAL;VALUE=DURATION:PT1H
X-Robots-Tag:noindex
X-PUBLISHED-TTL:PT1H
BEGIN:VTIMEZONE
TZID:Europe/Paris
BEGIN:DAYLIGHT
TZOFFSETFROM:+0100
TZOFFSETTO:+0200
TZNAME:CEST
DTSTART:20190331T010000
END:DAYLIGHT
BEGIN:STANDARD
TZOFFSETFROM:+0200
TZOFFSETTO:+0100
TZNAME:CET
DTSTART:20191027T010000
END:STANDARD
BEGIN:DAYLIGHT
TZOFFSETFROM:+0100
TZOFFSETTO:+0200
TZNAME:CEST
DTSTART:20200329T010000
END:DAYLIGHT
BEGIN:STANDARD
TZOFFSETFROM:+0200
TZOFFSETTO:+0100
TZNAME:CET
DTSTART:20201025T010000
END:STANDARD
BEGIN:DAYLIGHT
TZOFFSETFROM:+0100
TZOFFSETTO:+0200
TZNAME:CEST
DTSTART:20210328T010000
END:DAYLIGHT
BEGIN:STANDARD
TZOFFSETFROM:+0200
TZOFFSETTO:+0100
TZNAME:CET
DTSTART:20211031T010000
END:STANDARD
END:VTIMEZONE
BEGIN:VEVENT
DTSTART;TZID=Europe/Paris:20200418T090000
DTEND;TZID=Europe/Paris:20200419T170000
DTSTAMP:20260421T174147
CREATED:20200213T100018Z
LAST-MODIFIED:20200414T040503Z
UID:3748-1587200400-1587315600@si-dixmont.fr
SUMMARY:Tai chi chuan\, plantes médicinales et alimentaires en Pays d’Othe…
DESCRIPTION:En raison du COVID 19 : reporté à une date non définie \n– 18-19 avril\, Week-end en partenariat avec l’association villeneuvienne Tai Chi Nomade\, sur le thème :\nTai chi chuan\, plantes médicinales et alimentaires en Pays d’Othe…Fabienne Daret\, cueilleuse de plantes médicinales\, animera un atelier de fabrication de baume et autres préparations avec Thérèse Fleurent elles animeront des moments « initiation et pratique du Tai chi chuan « ; Georges Ribeill et ses dames phytophages présenteront et cuisineront quelques plantes comestibles… \nSamedi :\n– 9 h 15\, Rendez-vous à l’Enfourchure. Initiation et Pratique Tai chi chuan\n– 10 h\, Départ pour un parcours avec cueillette de quelques plantes médicinales et comestibles…\n– 12 h 30 : retour à l’Enfourchure ou à la salle des fêtes\, pique-nique tiré du sac.\n– 13 h 30 – 15 h 45 : premiers préparatifs des plantes cueillies ; fabrications diverses dont un baume à base de racine de consoude.\n– En milieu d’après-midi\, pause avec thé\, café\, boissons… et échanges sur les plantes récoltées\, leurs vertus\, leurs dangers…… Discussion avec Fabienne Daret et Georges Ribeill\n– 16 h 40 : Reprise des préparatifs et pratique du Taichi chuan jusqu’à 18 h. \nDimanche\, salle des fêtes :\n– 10 h – 10 h 30\, QiGong et Tai chi chuan\n– à partir de 10 h 30\, reprise des travaux pratiques en cuisine et au laboratoire…\n– 12 h 30 : Repas* à base de plantes comestibles\, boissons et apéritifs variés à base de plantes locales\n– 15 h 45 : Finalisation des préparations et dernière pratique de Tai chi chuan du WE. \n*Tarifs pour le week-end\, incluant le repas du dimanche :\nAdhérent Tai-Chi Nomade ou SID : 20 € ; non adhérent\, 25 €. \nInformations et inscriptions au week-end :\nTai Chi Nomade : taichichuan-nomade@orange.fr ; Montserrat Torrents : 06 51 34 49 00\nSID : Georges Ribeill\, 03 86 96 05 37
URL:https://si-dixmont.fr/evenement/tai-chi-chuan-plantes-medicinales-et-alimentaires-en-pays-dothe/
LOCATION:Prieuré de l’Enfourchure\, L'Enfourchure\, Dixmont\, 89500\, France
END:VEVENT
END:VCALENDAR