BEGIN:VCALENDAR
VERSION:2.0
PRODID:-//Syndicat d&#039;Initiative de Dixmont - ECPv6.15.11//NONSGML v1.0//EN
CALSCALE:GREGORIAN
METHOD:PUBLISH
X-ORIGINAL-URL:https://si-dixmont.fr
X-WR-CALDESC:Évènements pour Syndicat d&#039;Initiative de Dixmont
REFRESH-INTERVAL;VALUE=DURATION:PT1H
X-Robots-Tag:noindex
X-PUBLISHED-TTL:PT1H
BEGIN:VTIMEZONE
TZID:Europe/Paris
BEGIN:DAYLIGHT
TZOFFSETFROM:+0100
TZOFFSETTO:+0200
TZNAME:CEST
DTSTART:20190331T010000
END:DAYLIGHT
BEGIN:STANDARD
TZOFFSETFROM:+0200
TZOFFSETTO:+0100
TZNAME:CET
DTSTART:20191027T010000
END:STANDARD
BEGIN:DAYLIGHT
TZOFFSETFROM:+0100
TZOFFSETTO:+0200
TZNAME:CEST
DTSTART:20200329T010000
END:DAYLIGHT
BEGIN:STANDARD
TZOFFSETFROM:+0200
TZOFFSETTO:+0100
TZNAME:CET
DTSTART:20201025T010000
END:STANDARD
BEGIN:DAYLIGHT
TZOFFSETFROM:+0100
TZOFFSETTO:+0200
TZNAME:CEST
DTSTART:20210328T010000
END:DAYLIGHT
BEGIN:STANDARD
TZOFFSETFROM:+0200
TZOFFSETTO:+0100
TZNAME:CET
DTSTART:20211031T010000
END:STANDARD
END:VTIMEZONE
BEGIN:VEVENT
DTSTART;TZID=Europe/Paris:20200209T100000
DTEND;TZID=Europe/Paris:20200209T170000
DTSTAMP:20260421T204705
CREATED:20200213T094827Z
LAST-MODIFIED:20200213T101230Z
UID:3745-1581242400-1581267600@si-dixmont.fr
SUMMARY:Peintres et artistes locaux
DESCRIPTION:Dimanche 9 février 2020\n– 10 h\, Accueil à la salle des fêtes.\n– 10 h 15\, Evocation de peintres ayant séjourné à Villeneuve-sur-Yonne : Vuillard\, Bonnard\, Valloton\, Toulouse-Lautrec accueillis par les Natanson dans leur résidence des Relais durant les étés 1897-1899 ; puis Francis Picabia séjournant vers 1906-1907\, qui signe quelques tableaux.\nAvec la participation de Jean-Luc Dauphin\, de Jean-Marie Pinçon et de Thierry Vallée.\n– 11h30\, Histoire d’une famille d’artistes aux attaches dixmontoises\, Les Giffard : Alice (1871-1951)\, Lucie (1881-1959) et Albert (1895-1946). Leurs œuvres retrouvées (dessins\, tableaux\, faïences) seront exposées. Deux célèbres tableaux\, signées d’Alice\, décorent la salle des délibérations de la mairie…\nAvec la participation de Dorothée Censier (Musées de Sens)\, de Georges Ribeill\, et de témoins sur les sœurs Giffard… Seront évoqués à l’occasion quelques autres artistes disparus ou contemporains\, dixmontois en particulier. \nEntrée libre \nLes possesseurs d’oeuvres figurant Dixmont ou signées Giffard sont invités à les apporter pour être recensées et photographiées\, en vue de l’élaboration d’un catalogue. \n– 12 h 30\, Repas* autour d’une choucroute et d’un gâteau artistique conçu par Le Fournil. \n*Information : 03 86 96 05 37 ; ribeillgeorges@orange.fr
URL:https://si-dixmont.fr/evenement/peintres-et-artistes-locaux/
LOCATION:Salle des fêtes de Dixmont\, Rue Saint Gervais\, Dixmont\, 89500\, France
CATEGORIES:Conférence,Repas
END:VEVENT
END:VCALENDAR